BEGIN:VCALENDAR
VERSION:2.0
PRODID:spatie/icalendar-generator
DESCRIPTION:Veranstaltungen von ASV Bruchköbel 1965 e.V.
X-WR-CALDESC:Veranstaltungen von ASV Bruchköbel 1965 e.V.
REFRESH-INTERVAL;VALUE=DURATION:PT1440M
X-PUBLISHED-TTL:PT1440M
BEGIN:VTIMEZONE
TZID:Europe/Berlin
BEGIN:STANDARD
DTSTART:20231029T030000Z
TZOFFSETFROM:+0200
TZOFFSETTO:+0100
END:STANDARD
BEGIN:DAYLIGHT
DTSTART:20240331T020000Z
TZOFFSETFROM:+0100
TZOFFSETTO:+0200
END:DAYLIGHT
END:VTIMEZONE
BEGIN:VTIMEZONE
TZID:UTC
BEGIN:STANDARD
DTSTART:20250729T151101Z
TZOFFSETFROM:+0000
TZOFFSETTO:+0000
END:STANDARD
END:VTIMEZONE
BEGIN:VEVENT
UID:74-40
DTSTAMP:20260425T151101Z
SUMMARY:Jahresausabschlussgrillen
LOCATION:Vereinsheim ASV Bruchköbel   Bruchköbel - Oberissigheim Hessen 6
 3486
ORGANIZER;CN=ionErbETHa:MAILTO:webmaster@asv-bruchkoebel.de
DTSTART;TZID=Europe/Berlin:20231230T180000
DTEND;TZID=Europe/Berlin:20231230T235900
X-ALT-DESC;FMTTYPE=TEXT/HTML:
CATEGORIES:Mitglieder
URL;VALUE=URI:https://asv-bruchkoebel.de/mc-events/jahresausabschlussgrille
 n/?mc_id=74
END:VEVENT
END:VCALENDAR