BEGIN:VCALENDAR
VERSION:2.0
PRODID:spatie/icalendar-generator
DESCRIPTION:Veranstaltungen von ASV Bruchköbel 1965 e.V.
X-WR-CALDESC:Veranstaltungen von ASV Bruchköbel 1965 e.V.
REFRESH-INTERVAL;VALUE=DURATION:PT1440M
X-PUBLISHED-TTL:PT1440M
BEGIN:VTIMEZONE
TZID:Europe/Berlin
BEGIN:DAYLIGHT
DTSTART:20240331T020000Z
TZOFFSETFROM:+0100
TZOFFSETTO:+0200
END:DAYLIGHT
BEGIN:STANDARD
DTSTART:20241027T030000Z
TZOFFSETFROM:+0200
TZOFFSETTO:+0100
END:STANDARD
BEGIN:DAYLIGHT
DTSTART:20250330T020000Z
TZOFFSETFROM:+0100
TZOFFSETTO:+0200
END:DAYLIGHT
END:VTIMEZONE
BEGIN:VTIMEZONE
TZID:UTC
BEGIN:STANDARD
DTSTART:20250729T132843Z
TZOFFSETFROM:+0000
TZOFFSETTO:+0000
END:STANDARD
END:VTIMEZONE
BEGIN:VEVENT
UID:79-19
DTSTAMP:20260425T132843Z
SUMMARY:Sitzung Geschäftsführender Vorstand
LOCATION:Vereinsheim ASV Bruchköbel   Bruchköbel - Oberissigheim Hessen 6
 3486
ORGANIZER;CN=ionErbETHa:MAILTO:webmaster@asv-bruchkoebel.de
DTSTART;TZID=Europe/Berlin:20241215T100000
DTEND;TZID=Europe/Berlin:20241215T130000
X-ALT-DESC;FMTTYPE=TEXT/HTML:
CATEGORIES:Vorstand
URL;VALUE=URI:https://asv-bruchkoebel.de/mc-events/sitzung-geschaeftsfuehre
 nder-vorstand/?mc_id=79
END:VEVENT
END:VCALENDAR